BEGIN:VCALENDAR
VERSION:2.0
PRODID:-//ChamberMaster//Event Calendar 2.0//EN
METHOD:PUBLISH
X-PUBLISHED-TTL:P3D
REFRESH-INTERVAL:P3D
CALSCALE:GREGORIAN
BEGIN:VEVENT
DTSTART:20220612T180000Z
DTEND:20220612T210000Z
X-MICROSOFT-CDO-ALLDAYEVENT:FALSE
SUMMARY:Crown Act Event
DESCRIPTION:The time to act is now!!!! Get your tickets and PASS THE CROWN. The Crown Event in partnership with the City of West Palm Beach\, Crowned the day with Community Leaders\, entrepreneurs\, entertainers\, top hair stylist\, and the advancement of people of color\, the inaugural CROWN Awards honored women\, Men and Girls for their contribution to community\, culture\, and advancing the legacy of Black beauty and The CROWN Awards celebrates with top businesses across South Florida\, teen entrepreneurs and Government agencies. Bringing Hair\, Music and Culture together to motivate\, educate and inspire people to pass the CROWN. The event will also attract vendors from all over the state who bring a unique flair to the event\, beyond just selling. This event allows for vendor space for businesses and organizations\, and we expect space to sell out fast. Keynote speaker Stormy Wellington is known across the world for her fame and fortune earned in the world of multi-level marketing and direct sales\, Stormy has used her wealth and influence to fuel her purpose and help thousands of women to embrace their authentic selves.
X-ALT-DESC;FMTTYPE=text/html:The time to act is now!!!! Get your tickets and PASS THE CROWN. The Crown Event in partnership with the City of West Palm Beach\, Crowned the day with Community Leaders\, entrepreneurs\, entertainers\, top hair stylist\, and the advancement of people of color\, the inaugural CROWN Awards honored women\, Men and Girls for their contribution to community\, culture\, and advancing the legacy of Black beauty and The CROWN Awards celebrates with top businesses across South Florida\, teen entrepreneurs and Government agencies. Bringing Hair\, Music and Culture together to motivate\, educate and inspire people to pass the CROWN. The event will also attract vendors from all over the state who bring a unique flair to the event\, beyond just selling. This event allows for vendor space for businesses and organizations\, and we expect space to sell out fast. Keynote speaker Stormy Wellington is known across the world for her fame and fortune earned in the world of multi-level marketing and direct sales\, Stormy has used her wealth and influence to fuel her purpose and help thousands of women to embrace their authentic selves.
LOCATION:West Palm Beach Lake Pavilion 101 South Flagler Drive\, West Palm Beach\, Florida\, 33401
UID:e.2906.2019
SEQUENCE:3
DTSTAMP:20260424T153234Z
URL:http://blackchamberpbc.chambermaster.com/events/details/crown-act-event-2019
END:VEVENT

END:VCALENDAR
